Workbook

Sheet Resumen CAIPI detenidos ene18
E3: RESUMEN CAIPI DETENIDOS
C7: PROVINCIA | D7: CANTIDAD CAIPI SORTEADO | E7: CAIPI DETENIDO POR PAGO TERRENO | F7: CAIPI DETENIDO POR PAGO CUBICACION | G7: CAIPI DETENIDO POR PLANO | H7: CAIPI DETENIDO | I7: TOTAL DETENIDA | J7: PROCESO DONACION | K7: NEGOCIADO | L7: SIN INICIAR
C8: AZUA | D8: =+'estado terrenos '!B6 -> 5 | E8: =+COUNTIFS('Seguimiento Marzo 2026'!$C$12:$C$256,Tabla13[[#This Row],[PROVINCIA]],'Seguimiento Marzo 2026'!$H$12:$H$256,'Seguimiento Marzo 2026'!$H$20) -> 0 | F8: =+COUNTIFS('Seguimiento Marzo 2026'!$C$12:$C$256,Tabla13[[#This Row],[PROVINCIA]],'Seguimiento Marzo 2026'!$H$12:$H$256,'Seguimiento Marzo 2026'!$H$14) -> 3 | G8: =+COUNTIFS('Seguimiento Marzo 2026'!$C$12:$C$256,Tabla13[[#This Row],[PROVINCIA]],'Seguimiento Marzo 2026'!$H$12:$H$256,'Seguimiento Marzo 2026'!$H$31) -> 0 | H8: =+COUNTIFS('Seguimiento Marzo 2026'!$C$12:$C$256,Tabla13[[#This Row],[PROVINCIA]],'Seguimiento Marzo 2026'!$H$12:$H$256,'Seguimiento Marzo 2026'!$H$22) -> 3 | I8: =SUM(Tabla13[[#This Row],[CAIPI DETENIDO POR PAGO TERRENO]:[CAIPI DETENIDO]]) -> 6 | J8: =+COUNTIFS('Seguimiento Marzo 2026'!$C$12:$C$256,Tabla13[[#This Row],[PROVINCIA]],'Seguimiento Marzo 2026'!$I$12:$I$256,'Seguimiento Marzo 2026'!$I$24) -> 4 | K8: =+COUNTIFS('Seguimiento Marzo 2026'!$C$12:$C$256,Tabla13[[#This Row],[PROVINCIA]],'Seguimiento Marzo 2026'!$I$12:$I$256,'Seguimiento Marzo 2026'!$I$28) -> 0 | L8: =COUNTIFS('Seguimiento Marzo 2026'!$C$12:$C$256,'estado terrenos '!A6,'Seguimiento Marzo 2026'!$H$12:$H$256,'Seguimiento Marzo 2026'!$H$15) -> 1
C9: BAHORUCO | D9: =+'estado terrenos '!B7 -> 5 | E9: =+COUNTIFS('Seguimiento Marzo 2026'!$C$12:$C$256,Tabla13[[#This Row],[PROVINCIA]],'Seguimiento Marzo 2026'!$H$12:$H$256,'Seguimiento Marzo 2026'!$H$20) -> 0 | F9: =+COUNTIFS('Seguimiento Marzo 2026'!$C$12:$C$256,Tabla13[[#This Row],[PROVINCIA]],'Seguimiento Marzo 2026'!$H$12:$H$256,'Seguimiento Marzo 2026'!$H$14) -> 1 | G9: =+COUNTIFS('Seguimiento Marzo 2026'!$C$12:$C$256,Tabla13[[#This Row],[PROVINCIA]],'Seguimiento Marzo 2026'!$H$12:$H$256,'Seguimiento Marzo 2026'!$H$31) -> 3 | H9: =+COUNTIFS('Seguimiento Marzo 2026'!$C$12:$C$256,Tabla13[[#This Row],[PROVINCIA]],'Seguimiento Marzo 2026'!$H$12:$H$256,'Seguimiento Marzo 2026'!$H$22) -> 1 | I9: =SUM(Tabla13[[#This Row],[CAIPI DETENIDO POR PAGO TERRENO]:[CAIPI DETENIDO]]) -> 5 | J9: =+COUNTIFS('Seguimiento Marzo 2026'!$C$12:$C$256,Tabla13[[#This Row],[PROVINCIA]],'Seguimiento Marzo 2026'!$I$12:$I$256,'Seguimiento Marzo 2026'!$I$24) -> 4 | K9: =+COUNTIFS('Seguimiento Marzo 2026'!$C$12:$C$256,Tabla13[[#This Row],[PROVINCIA]],'Seguimiento Marzo 2026'!$I$12:$I$256,'Seguimiento Marzo 2026'!$I$28) -> 1 | L9: =COUNTIFS('Seguimiento Marzo 2026'!$C$12:$C$256,'estado terrenos '!A7,'Seguimiento Marzo 2026'!$H$12:$H$256,'Seguimiento Marzo 2026'!$H$15) -> 0
C10: BARAHONA | D10: =+'estado terrenos '!B8 -> 5 | E10: =+COUNTIFS('Seguimiento Marzo 2026'!$C$12:$C$256,Tabla13[[#This Row],[PROVINCIA]],'Seguimiento Marzo 2026'!$H$12:$H$256,'Seguimiento Marzo 2026'!$H$20) -> 1 | F10: =+COUNTIFS('Seguimiento Marzo 2026'!$C$12:$C$256,Tabla13[[#This Row],[PROVINCIA]],'Seguimiento Marzo 2026'!$H$12:$H$256,'Seguimiento Marzo 2026'!$H$14) -> 2 | G10: =+COUNTIFS('Seguimiento Marzo 2026'!$C$12:$C$256,Tabla13[[#This Row],[PROVINCIA]],'Seguimiento Marzo 2026'!$H$12:$H$256,'Seguimiento Marzo 2026'!$H$31) -> 0 | H10: =+COUNTIFS('Seguimiento Marzo 2026'!$C$12:$C$256,Tabla13[[#This Row],[PROVINCIA]],'Seguimiento Marzo 2026'!$H$12:$H$256,'Seguimiento Marzo 2026'!$H$22) -> 2 | I10: =SUM(Tabla13[[#This Row],[CAIPI DETENIDO POR PAGO TERRENO]:[CAIPI DETENIDO]]) -> 5 | J10: =+COUNTIFS('Seguimiento Marzo 2026'!$C$12:$C$256,Tabla13[[#This Row],[PROVINCIA]],'Seguimiento Marzo 2026'!$I$12:$I$256,'Seguimiento Marzo 2026'!$I$24) -> 4 | K10: =+COUNTIFS('Seguimiento Marzo 2026'!$C$12:$C$256,Tabla13[[#This Row],[PROVINCIA]],'Seguimiento Marzo 2026'!$I$12:$I$256,'Seguimiento Marzo 2026'!$I$28) -> 1 | L10: =COUNTIFS('Seguimiento Marzo 2026'!$C$12:$C$256,'estado terrenos '!A8,'Seguimiento Marzo 2026'!$H$12:$H$256,'Seguimiento Marzo 2026'!$H$15) -> 1
C11: DAJABÓN | D11: =+'estado terrenos '!B9 -> 3 | E11: =+COUNTIFS('Seguimiento Marzo 2026'!$C$12:$C$256,Tabla13[[#This Row],[PROVINCIA]],'Seguimiento Marzo 2026'!$H$12:$H$256,'Seguimiento Marzo 2026'!$H$20) -> 2 | F11: =+COUNTIFS('Seguimiento Marzo 2026'!$C$12:$C$256,Tabla13[[#This Row],[PROVINCIA]],'Seguimiento Marzo 2026'!$H$12:$H$256,'Seguimiento Marzo 2026'!$H$14) -> 0 | G11: =+COUNTIFS('Seguimiento Marzo 2026'!$C$12:$C$256,Tabla13[[#This Row],[PROVINCIA]],'Seguimiento Marzo 2026'!$H$12:$H$256,'Seguimiento Marzo 2026'!$H$31) -> 0 | H11: =+COUNTIFS('Seguimiento Marzo 2026'!$C$12:$C$256,Tabla13[[#This Row],[PROVINCIA]],'Seguimiento Marzo 2026'!$H$12:$H$256,'Seguimiento Marzo 2026'!$H$22) -> 0 | I11: =SUM(Tabla13[[#This Row],[CAIPI DETENIDO POR PAGO TERRENO]:[CAIPI DETENIDO]]) -> 2 | J11: =+COUNTIFS('Seguimiento Marzo 2026'!$C$12:$C$256,Tabla13[[#This Row],[PROVINCIA]],'Seguimiento Marzo 2026'!$I$12:$I$256,'Seguimiento Marzo 2026'!$I$24) -> 2 | K11: =+COUNTIFS('Seguimiento Marzo 2026'!$C$12:$C$256,Tabla13[[#This Row],[PROVINCIA]],'Seguimiento Marzo 2026'!$I$12:$I$256,'Seguimiento Marzo 2026'!$I$28) -> 0 | L11: =COUNTIFS('Seguimiento Marzo 2026'!$C$12:$C$256,'estado terrenos '!A9,'Seguimiento Marzo 2026'!$H$12:$H$256,'Seguimiento Marzo 2026'!$H$15) -> 0
C12: DISTRITO NACIONAL | D12: =+'estado terrenos '!B10 -> 14 | E12: =+COUNTIFS('Seguimiento Marzo 2026'!$C$12:$C$256,Tabla13[[#This Row],[PROVINCIA]],'Seguimiento Marzo 2026'!$H$12:$H$256,'Seguimiento Marzo 2026'!$H$20) -> 2 | F12: =+COUNTIFS('Seguimiento Marzo 2026'!$C$12:$C$256,Tabla13[[#This Row],[PROVINCIA]],'Seguimiento Marzo 2026'!$H$12:$H$256,'Seguimiento Marzo 2026'!$H$14) -> 3 | G12: =+COUNTIFS('Seguimiento Marzo 2026'!$C$12:$C$256,Tabla13[[#This Row],[PROVINCIA]],'Seguimiento Marzo 2026'!$H$12:$H$256,'Seguimiento Marzo 2026'!$H$31) -> 3 | H12: =+COUNTIFS('Seguimiento Marzo 2026'!$C$12:$C$256,Tabla13[[#This Row],[PROVINCIA]],'Seguimiento Marzo 2026'!$H$12:$H$256,'Seguimiento Marzo 2026'!$H$22) -> 3 | I12: =SUM(Tabla13[[#This Row],[CAIPI DETENIDO POR PAGO TERRENO]:[CAIPI DETENIDO]]) -> 11 | J12: =+COUNTIFS('Seguimiento Marzo 2026'!$C$12:$C$256,Tabla13[[#This Row],[PROVINCIA]],'Seguimiento Marzo 2026'!$I$12:$I$256,'Seguimiento Marzo 2026'!$I$24) -> 9 | K12: =+COUNTIFS('Seguimiento Marzo 2026'!$C$12:$C$256,Tabla13[[#This Row],[PROVINCIA]],'Seguimiento Marzo 2026'!$I$12:$I$256,'Seguimiento Marzo 2026'!$I$28) -> 1 | L12: =COUNTIFS('Seguimiento Marzo 2026'!$C$12:$C$256,'estado terrenos '!A10,'Seguimiento Marzo 2026'!$H$12:$H$256,'Seguimiento Marzo 2026'!$H$15) -> 0
C13: DUARTE | D13: =+'estado terrenos '!B11 -> 6 | E13: =+COUNTIFS('Seguimiento Marzo 2026'!$C$12:$C$256,Tabla13[[#This Row],[PROVINCIA]],'Seguimiento Marzo 2026'!$H$12:$H$256,'Seguimiento Marzo 2026'!$H$20) -> 0 | F13: =+COUNTIFS('Seguimiento Marzo 2026'!$C$12:$C$256,Tabla13[[#This Row],[PROVINCIA]],'Seguimiento Marzo 2026'!$H$12:$H$256,'Seguimiento Marzo 2026'!$H$14) -> 4 | G13: =+COUNTIFS('Seguimiento Marzo 2026'!$C$12:$C$256,Tabla13[[#This Row],[PROVINCIA]],'Seguimiento Marzo 2026'!$H$12:$H$256,'Seguimiento Marzo 2026'!$H$31) -> 1 | H13: =+COUNTIFS('Seguimiento Marzo 2026'!$C$12:$C$256,Tabla13[[#This Row],[PROVINCIA]],'Seguimiento Marzo 2026'!$H$12:$H$256,'Seguimiento Marzo 2026'!$H$22) -> 4 | I13: =SUM(Tabla13[[#This Row],[CAIPI DETENIDO POR PAGO TERRENO]:[CAIPI DETENIDO]]) -> 9 | J13: =+COUNTIFS('Seguimiento Marzo 2026'!$C$12:$C$256,Tabla13[[#This Row],[PROVINCIA]],'Seguimiento Marzo 2026'!$I$12:$I$256,'Seguimiento Marzo 2026'!$I$24) -> 6 | K13: =+COUNTIFS('Seguimiento Marzo 2026'!$C$12:$C$256,Tabla13[[#This Row],[PROVINCIA]],'Seguimiento Marzo 2026'!$I$12:$I$256,'Seguimiento Marzo 2026'!$I$28) -> 0 | L13: =COUNTIFS('Seguimiento Marzo 2026'!$C$12:$C$256,'estado terrenos '!A11,'Seguimiento Marzo 2026'!$H$12:$H$256,'Seguimiento Marzo 2026'!$H$15) -> 0
C14: EL SEIBO | D14: =+'estado terrenos '!B12 -> 2 | E14: =+COUNTIFS('Seguimiento Marzo 2026'!$C$12:$C$256,Tabla13[[#This Row],[PROVINCIA]],'Seguimiento Marzo 2026'!$H$12:$H$256,'Seguimiento Marzo 2026'!$H$20) -> 0 | F14: =+COUNTIFS('Seguimiento Marzo 2026'!$C$12:$C$256,Tabla13[[#This Row],[PROVINCIA]],'Seguimiento Marzo 2026'!$H$12:$H$256,'Seguimiento Marzo 2026'!$H$14) -> 1 | G14: =+COUNTIFS('Seguimiento Marzo 2026'!$C$12:$C$256,Tabla13[[#This Row],[PROVINCIA]],'Seguimiento Marzo 2026'!$H$12:$H$256,'Seguimiento Marzo 2026'!$H$31) -> 0 | H14: =+COUNTIFS('Seguimiento Marzo 2026'!$C$12:$C$256,Tabla13[[#This Row],[PROVINCIA]],'Seguimiento Marzo 2026'!$H$12:$H$256,'Seguimiento Marzo 2026'!$H$22) -> 1 | I14: =SUM(Tabla13[[#This Row],[CAIPI DETENIDO POR PAGO TERRENO]:[CAIPI DETENIDO]]) -> 2 | J14: =+COUNTIFS('Seguimiento Marzo 2026'!$C$12:$C$256,Tabla13[[#This Row],[PROVINCIA]],'Seguimiento Marzo 2026'!$I$12:$I$256,'Seguimiento Marzo 2026'!$I$24) -> 1 | K14: =+COUNTIFS('Seguimiento Marzo 2026'!$C$12:$C$256,Tabla13[[#This Row],[PROVINCIA]],'Seguimiento Marzo 2026'!$I$12:$I$256,'Seguimiento Marzo 2026'!$I$28) -> 0 | L14: =COUNTIFS('Seguimiento Marzo 2026'!$C$12:$C$256,'estado terrenos '!A12,'Seguimiento Marzo 2026'!$H$12:$H$256,'Seguimiento Marzo 2026'!$H$15) -> 0
C15: ELIAS PIÑA | D15: =+'estado terrenos '!B13 -> 2 | E15: =+COUNTIFS('Seguimiento Marzo 2026'!$C$12:$C$256,Tabla13[[#This Row],[PROVINCIA]],'Seguimiento Marzo 2026'!$H$12:$H$256,'Seguimiento Marzo 2026'!$H$20) -> 0 | F15: =+COUNTIFS('Seguimiento Marzo 2026'!$C$12:$C$256,Tabla13[[#This Row],[PROVINCIA]],'Seguimiento Marzo 2026'!$H$12:$H$256,'Seguimiento Marzo 2026'!$H$14) -> 0 | G15: =+COUNTIFS('Seguimiento Marzo 2026'!$C$12:$C$256,Tabla13[[#This Row],[PROVINCIA]],'Seguimiento Marzo 2026'!$H$12:$H$256,'Seguimiento Marzo 2026'!$H$31) -> 0 | H15: =+COUNTIFS('Seguimiento Marzo 2026'!$C$12:$C$256,Tabla13[[#This Row],[PROVINCIA]],'Seguimiento Marzo 2026'!$H$12:$H$256,'Seguimiento Marzo 2026'!$H$22) -> 0 | I15: =SUM(Tabla13[[#This Row],[CAIPI DETENIDO POR PAGO TERRENO]:[CAIPI DETENIDO]]) -> 0 | J15: =+COUNTIFS('Seguimiento Marzo 2026'!$C$12:$C$256,Tabla13[[#This Row],[PROVINCIA]],'Seguimiento Marzo 2026'!$I$12:$I$256,'Seguimiento Marzo 2026'!$I$24) -> 0 | K15: =+COUNTIFS('Seguimiento Marzo 2026'!$C$12:$C$256,Tabla13[[#This Row],[PROVINCIA]],'Seguimiento Marzo 2026'!$I$12:$I$256,'Seguimiento Marzo 2026'!$I$28) -> 0 | L15: =COUNTIFS('Seguimiento Marzo 2026'!$C$12:$C$256,'estado terrenos '!A13,'Seguimiento Marzo 2026'!$H$12:$H$256,'Seguimiento Marzo 2026'!$H$15) -> 0
C16: ESPAILLAT | D16: =+'estado terrenos '!B14 -> 6 | E16: =+COUNTIFS('Seguimiento Marzo 2026'!$C$12:$C$256,Tabla13[[#This Row],[PROVINCIA]],'Seguimiento Marzo 2026'!$H$12:$H$256,'Seguimiento Marzo 2026'!$H$20) -> 0 | F16: =+COUNTIFS('Seguimiento Marzo 2026'!$C$12:$C$256,Tabla13[[#This Row],[PROVINCIA]],'Seguimiento Marzo 2026'!$H$12:$H$256,'Seguimiento Marzo 2026'!$H$14) -> 3 | G16: =+COUNTIFS('Seguimiento Marzo 2026'!$C$12:$C$256,Tabla13[[#This Row],[PROVINCIA]],'Seguimiento Marzo 2026'!$H$12:$H$256,'Seguimiento Marzo 2026'!$H$31) -> 1 | H16: =+COUNTIFS('Seguimiento Marzo 2026'!$C$12:$C$256,Tabla13[[#This Row],[PROVINCIA]],'Seguimiento Marzo 2026'!$H$12:$H$256,'Seguimiento Marzo 2026'!$H$22) -> 3 | I16: =SUM(Tabla13[[#This Row],[CAIPI DETENIDO POR PAGO TERRENO]:[CAIPI DETENIDO]]) -> 7 | J16: =+COUNTIFS('Seguimiento Marzo 2026'!$C$12:$C$256,Tabla13[[#This Row],[PROVINCIA]],'Seguimiento Marzo 2026'!$I$12:$I$256,'Seguimiento Marzo 2026'!$I$24) -> 5 | K16: =+COUNTIFS('Seguimiento Marzo 2026'!$C$12:$C$256,Tabla13[[#This Row],[PROVINCIA]],'Seguimiento Marzo 2026'!$I$12:$I$256,'Seguimiento Marzo 2026'!$I$28) -> 1 | L16: =COUNTIFS('Seguimiento Marzo 2026'!$C$12:$C$256,'estado terrenos '!A14,'Seguimiento Marzo 2026'!$H$12:$H$256,'Seguimiento Marzo 2026'!$H$15) -> 1
C17: HATO MAYOR | D17: =+'estado terrenos '!B15 -> 3 | E17: =+COUNTIFS('Seguimiento Marzo 2026'!$C$12:$C$256,Tabla13[[#This Row],[PROVINCIA]],'Seguimiento Marzo 2026'!$H$12:$H$256,'Seguimiento Marzo 2026'!$H$20) -> 1 | F17: =+COUNTIFS('Seguimiento Marzo 2026'!$C$12:$C$256,Tabla13[[#This Row],[PROVINCIA]],'Seguimiento Marzo 2026'!$H$12:$H$256,'Seguimiento Marzo 2026'!$H$14) -> 0 | G17: =+COUNTIFS('Seguimiento Marzo 2026'!$C$12:$C$256,Tabla13[[#This Row],[PROVINCIA]],'Seguimiento Marzo 2026'!$H$12:$H$256,'Seguimiento Marzo 2026'!$H$31) -> 0 | H17: =+COUNTIFS('Seguimiento Marzo 2026'!$C$12:$C$256,Tabla13[[#This Row],[PROVINCIA]],'Seguimiento Marzo 2026'!$H$12:$H$256,'Seguimiento Marzo 2026'!$H$22) -> 0 | I17: =SUM(Tabla13[[#This Row],[CAIPI DETENIDO POR PAGO TERRENO]:[CAIPI DETENIDO]]) -> 1 | J17: =+COUNTIFS('Seguimiento Marzo 2026'!$C$12:$C$256,Tabla13[[#This Row],[PROVINCIA]],'Seguimiento Marzo 2026'!$I$12:$I$256,'Seguimiento Marzo 2026'!$I$24) -> 3 | K17: =+COUNTIFS('Seguimiento Marzo 2026'!$C$12:$C$256,Tabla13[[#This Row],[PROVINCIA]],'Seguimiento Marzo 2026'!$I$12:$I$256,'Seguimiento Marzo 2026'!$I$28) -> 0 | L17: =COUNTIFS('Seguimiento Marzo 2026'!$C$12:$C$256,'estado terrenos '!A15,'Seguimiento Marzo 2026'!$H$12:$H$256,'Seguimiento Marzo 2026'!$H$15) -> 1
C18: HERMANAS MIRABAL | D18: =+'estado terrenos '!B16 -> 3 | E18: =+COUNTIFS('Seguimiento Marzo 2026'!$C$12:$C$256,Tabla13[[#This Row],[PROVINCIA]],'Seguimiento Marzo 2026'!$H$12:$H$256,'Seguimiento Marzo 2026'!$H$20) -> 0 | F18: =+COUNTIFS('Seguimiento Marzo 2026'!$C$12:$C$256,Tabla13[[#This Row],[PROVINCIA]],'Seguimiento Marzo 2026'!$H$12:$H$256,'Seguimiento Marzo 2026'!$H$14) -> 1 | G18: =+COUNTIFS('Seguimiento Marzo 2026'!$C$12:$C$256,Tabla13[[#This Row],[PROVINCIA]],'Seguimiento Marzo 2026'!$H$12:$H$256,'Seguimiento Marzo 2026'!$H$31) -> 0 | H18: =+COUNTIFS('Seguimiento Marzo 2026'!$C$12:$C$256,Tabla13[[#This Row],[PROVINCIA]],'Seguimiento Marzo 2026'!$H$12:$H$256,'Seguimiento Marzo 2026'!$H$22) -> 1 | I18: =SUM(Tabla13[[#This Row],[CAIPI DETENIDO POR PAGO TERRENO]:[CAIPI DETENIDO]]) -> 2 | J18: =+COUNTIFS('Seguimiento Marzo 2026'!$C$12:$C$256,Tabla13[[#This Row],[PROVINCIA]],'Seguimiento Marzo 2026'!$I$12:$I$256,'Seguimiento Marzo 2026'!$I$24) -> 2 | K18: =+COUNTIFS('Seguimiento Marzo 2026'!$C$12:$C$256,Tabla13[[#This Row],[PROVINCIA]],'Seguimiento Marzo 2026'!$I$12:$I$256,'Seguimiento Marzo 2026'!$I$28) -> 1 | L18: =COUNTIFS('Seguimiento Marzo 2026'!$C$12:$C$256,'estado terrenos '!A16,'Seguimiento Marzo 2026'!$H$12:$H$256,'Seguimiento Marzo 2026'!$H$15) -> 0
C19: INDEPENDENCIA | D19: =+'estado terrenos '!B17 -> 4 | E19: =+COUNTIFS('Seguimiento Marzo 2026'!$C$12:$C$256,Tabla13[[#This Row],[PROVINCIA]],'Seguimiento Marzo 2026'!$H$12:$H$256,'Seguimiento Marzo 2026'!$H$20) -> 0 | F19: =+COUNTIFS('Seguimiento Marzo 2026'!$C$12:$C$256,Tabla13[[#This Row],[PROVINCIA]],'Seguimiento Marzo 2026'!$H$12:$H$256,'Seguimiento Marzo 2026'!$H$14) -> 2 | G19: =+COUNTIFS('Seguimiento Marzo 2026'!$C$12:$C$256,Tabla13[[#This Row],[PROVINCIA]],'Seguimiento Marzo 2026'!$H$12:$H$256,'Seguimiento Marzo 2026'!$H$31) -> 1 | H19: =+COUNTIFS('Seguimiento Marzo 2026'!$C$12:$C$256,Tabla13[[#This Row],[PROVINCIA]],'Seguimiento Marzo 2026'!$H$12:$H$256,'Seguimiento Marzo 2026'!$H$22) -> 2 | I19: =SUM(Tabla13[[#This Row],[CAIPI DETENIDO POR PAGO TERRENO]:[CAIPI DETENIDO]]) -> 5 | J19: =+COUNTIFS('Seguimiento Marzo 2026'!$C$12:$C$256,Tabla13[[#This Row],[PROVINCIA]],'Seguimiento Marzo 2026'!$I$12:$I$256,'Seguimiento Marzo 2026'!$I$24) -> 4 | K19: =+COUNTIFS('Seguimiento Marzo 2026'!$C$12:$C$256,Tabla13[[#This Row],[PROVINCIA]],'Seguimiento Marzo 2026'!$I$12:$I$256,'Seguimiento Marzo 2026'!$I$28) -> 0 | L19: =COUNTIFS('Seguimiento Marzo 2026'!$C$12:$C$256,'estado terrenos '!A17,'Seguimiento Marzo 2026'!$H$12:$H$256,'Seguimiento Marzo 2026'!$H$15) -> 1
... C39: VALVERDE | D39: =+'estado terrenos '!B37 -> 5 | E39: =+COUNTIFS('Seguimiento Marzo 2026'!$C$12:$C$256,Tabla13[[#This Row],[PROVINCIA]],'Seguimiento Marzo 2026'!$H$12:$H$256,'Seguimiento Marzo 2026'!$H$20) -> 2 | F39: =+COUNTIFS('Seguimiento Marzo 2026'!$C$12:$C$256,Tabla13[[#This Row],[PROVINCIA]],'Seguimiento Marzo 2026'!$H$12:$H$256,'Seguimiento Marzo 2026'!$H$14) -> 2 | G39: =+COUNTIFS('Seguimiento Marzo 2026'!$C$12:$C$256,Tabla13[[#This Row],[PROVINCIA]],'Seguimiento Marzo 2026'!$H$12:$H$256,'Seguimiento Marzo 2026'!$H$31) -> 1 | H39: =+COUNTIFS('Seguimiento Marzo 2026'!$C$12:$C$256,Tabla13[[#This Row],[PROVINCIA]],'Seguimiento Marzo 2026'!$H$12:$H$256,'Seguimiento Marzo 2026'!$H$22) -> 2 | I39: =SUM(Tabla13[[#This Row],[CAIPI DETENIDO POR PAGO TERRENO]:[CAIPI DETENIDO]]) -> 7 | J39: =+COUNTIFS('Seguimiento Marzo 2026'!$C$12:$C$256,Tabla13[[#This Row],[PROVINCIA]],'Seguimiento Marzo 2026'!$I$12:$I$256,'Seguimiento Marzo 2026'!$I$24) -> 5 | K39: =+COUNTIFS('Seguimiento Marzo 2026'!$C$12:$C$256,Tabla13[[#This Row],[PROVINCIA]],'Seguimiento Marzo 2026'!$I$12:$I$256,'Seguimiento Marzo 2026'!$I$28) -> 0 | L39: =COUNTIFS('Seguimiento Marzo 2026'!$C$12:$C$256,'estado terrenos '!A37,'Seguimiento Marzo 2026'!$H$12:$H$256,'Seguimiento Marzo 2026'!$H$15) -> 0
C40: TOTAL | D40: =SUBTOTAL(109,Tabla13[CANTIDAD CAIPI SORTEADO]) -> 251 | E40: =SUBTOTAL(109,Tabla13[CAIPI DETENIDO POR PAGO TERRENO]) -> 39 | F40: =SUBTOTAL(109,Tabla13[CAIPI DETENIDO POR PAGO CUBICACION]) -> 80 | G40: =SUBTOTAL(109,Tabla13[CAIPI DETENIDO POR PLANO]) -> 43 | H40: =SUM(Tabla13[CAIPI DETENIDO]) -> 80 | I40: =SUBTOTAL(109,Tabla13[TOTAL DETENIDA]) -> 242 | J40: =SUBTOTAL(109,Tabla13[PROCESO DONACION]) -> 189 | K40: =SUBTOTAL(109,Tabla13[NEGOCIADO]) -> 11 | L40: =SUM(Tabla13[SIN INICIAR]) -> 14

Sheet Resumen Servicio operando PI
A2: Estado de Servicios de Primera Infancia Operando "INAIPI"
A3: Actualizado al 10 Junio 2020
A4: PROVINCIA | B4: CAIPI operando | C4: CAFI operando | D4: Total Servicio | G4: Tipo Servicio
A5: AZUA | B5: =+COUNTIFS(#REF!,'Resumen Servicio operando PI'!A5,#REF!,'Resumen Servicio operando PI'!$G$6) -> #REF! | C5: =+COUNTIFS(#REF!,'Resumen Servicio operando PI'!A5,#REF!,'Resumen Servicio operando PI'!$G$5) -> #REF! | D5: =+B5+C5 -> #REF! | G5: CAFI
A6: BAHORUCO | B6: =+COUNTIFS(#REF!,'Resumen Servicio operando PI'!A6,#REF!,'Resumen Servicio operando PI'!$G$6) -> #REF! | C6: =+COUNTIFS(#REF!,'Resumen Servicio operando PI'!A6,#REF!,'Resumen Servicio operando PI'!$G$5) -> #REF! | D6: =+B6+C6 -> #REF! | G6: CAIPI
A7: BARAHONA | B7: =+COUNTIFS(#REF!,'Resumen Servicio operando PI'!A7,#REF!,'Resumen Servicio operando PI'!$G$6) -> #REF! | C7: =+COUNTIFS(#REF!,'Resumen Servicio operando PI'!A7,#REF!,'Resumen Servicio operando PI'!$G$5) -> #REF! | D7: =+B7+C7 -> #REF!
A8: DAJABÓN | B8: =+COUNTIFS(#REF!,'Resumen Servicio operando PI'!A8,#REF!,'Resumen Servicio operando PI'!$G$6) -> #REF! | C8: =+COUNTIFS(#REF!,'Resumen Servicio operando PI'!A8,#REF!,'Resumen Servicio operando PI'!$G$5) -> #REF! | D8: =+B8+C8 -> #REF!
A9: DISTRITO NACIONAL | B9: =+COUNTIFS(#REF!,'Resumen Servicio operando PI'!A9,#REF!,'Resumen Servicio operando PI'!$G$6) -> #REF! | C9: =+COUNTIFS(#REF!,'Resumen Servicio operando PI'!A9,#REF!,'Resumen Servicio operando PI'!$G$5) -> #REF! | D9: =+B9+C9 -> #REF!
A10: DUARTE | B10: =+COUNTIFS(#REF!,'Resumen Servicio operando PI'!A10,#REF!,'Resumen Servicio operando PI'!$G$6) -> #REF! | C10: =+COUNTIFS(#REF!,'Resumen Servicio operando PI'!A10,#REF!,'Resumen Servicio operando PI'!$G$5) -> #REF! | D10: =+B10+C10 -> #REF!
A11: EL SEIBO | B11: =+COUNTIFS(#REF!,'Resumen Servicio operando PI'!A11,#REF!,'Resumen Servicio operando PI'!$G$6) -> #REF! | C11: =+COUNTIFS(#REF!,'Resumen Servicio operando PI'!A11,#REF!,'Resumen Servicio operando PI'!$G$5) -> #REF! | D11: =+B11+C11 -> #REF!
A12: ELÍAS PIÑA | B12: =+COUNTIFS(#REF!,'Resumen Servicio operando PI'!A12,#REF!,'Resumen Servicio operando PI'!$G$6) -> #REF! | C12: =+COUNTIFS(#REF!,'Resumen Servicio operando PI'!A12,#REF!,'Resumen Servicio operando PI'!$G$5) -> #REF! | D12: =+B12+C12 -> #REF!
A13: ESPAILLAT | B13: =+COUNTIFS(#REF!,'Resumen Servicio operando PI'!A13,#REF!,'Resumen Servicio operando PI'!$G$6) -> #REF! | C13: =+COUNTIFS(#REF!,'Resumen Servicio operando PI'!A13,#REF!,'Resumen Servicio operando PI'!$G$5) -> #REF! | D13: =+B13+C13 -> #REF!
A14: HATO MAYOR | B14: =+COUNTIFS(#REF!,'Resumen Servicio operando PI'!A14,#REF!,'Resumen Servicio operando PI'!$G$6) -> #REF! | C14: =+COUNTIFS(#REF!,'Resumen Servicio operando PI'!A14,#REF!,'Resumen Servicio operando PI'!$G$5) -> #REF! | D14: =+B14+C14 -> #REF!
A15: HERMANAS MIRABAL | B15: =+COUNTIFS(#REF!,'Resumen Servicio operando PI'!A15,#REF!,'Resumen Servicio operando PI'!$G$6) -> #REF! | C15: =+COUNTIFS(#REF!,'Resumen Servicio operando PI'!A15,#REF!,'Resumen Servicio operando PI'!$G$5) -> #REF! | D15: =+B15+C15 -> #REF!
A16: INDEPENDENCIA | B16: =+COUNTIFS(#REF!,'Resumen Servicio operando PI'!A16,#REF!,'Resumen Servicio operando PI'!$G$6) -> #REF! | C16: =+COUNTIFS(#REF!,'Resumen Servicio operando PI'!A16,#REF!,'Resumen Servicio operando PI'!$G$5) -> #REF! | D16: =+B16+C16 -> #REF!
A17: LA ALTAGRACIA | B17: =+COUNTIFS(#REF!,'Resumen Servicio operando PI'!A17,#REF!,'Resumen Servicio operando PI'!$G$6) -> #REF! | C17: =+COUNTIFS(#REF!,'Resumen Servicio operando PI'!A17,#REF!,'Resumen Servicio operando PI'!$G$5) -> #REF! | D17: =+B17+C17 -> #REF!
A18: LA ROMANA | B18: =+COUNTIFS(#REF!,'Resumen Servicio operando PI'!A18,#REF!,'Resumen Servicio operando PI'!$G$6) -> #REF! | C18: =+COUNTIFS(#REF!,'Resumen Servicio operando PI'!A18,#REF!,'Resumen Servicio operando PI'!$G$5) -> #REF! | D18: =+B18+C18 -> #REF!
... A36: VALVERDE | B36: =+COUNTIFS(#REF!,'Resumen Servicio operando PI'!A36,#REF!,'Resumen Servicio operando PI'!$G$6) -> #REF! | C36: =+COUNTIFS(#REF!,'Resumen Servicio operando PI'!A36,#REF!,'Resumen Servicio operando PI'!$G$5) -> #REF! | D36: =+B36+C36 -> #REF!
A37: TOTAL | B37: =SUM(B5:B36) -> #REF! | C37: =SUM(C5:C36) -> #REF! | D37: =SUM(D5:D36) -> #REF!

Sheet estado terrenos 
B1: ESTADO DE TERRENOS Y AVANCE CONSTRUCTIVO DE LOS CAIPI
D3: Actualizado a Marzo 2026. | Y3: Estado Constructivo | AD3: Estado terreno
D4: CAIPI INICIADO | G4: CAIPI SIN INICIAR | K4: AVANCE CONSTRUCTIVO DE CAIPI POR PROVINCIA | O4: SERVICIOS PI OPERANDO (01/09/2020) | R4: >=0% | S4: >25% | T4: >50% | U4: >75% | Y4: Etapa Preliminar | Z4: Inaugurado | AA4: En Construcción | AB4: Sin Iniciar | AD4: Negociado | AE4: Con Propuesta | AF4: Sin Propuesta
A5: PROVINCIA | B5: CAIPI SORTEADO | C5: CAIPI INAUGURADO | D5: TOTAL CAIPI INICIADO | E5: CAIPI INICIADO EN CONSTRUCCIÓN | F5: CAIPI INICIADO / DETENIDO | G5: TOTAL CAIPI SIN INICIAR | H5: CAIPI SIN INICIAR /SIN PROPUESTA TERRENO | I5: CAIPI SIN INICIAR / CON PROPUESTA TERRENO | J5: CAIPI SIN INICIAR / CON TERRENO EN NEGOCIACIÓN | K5: <=25% | L5: Entre 26% y 50% | M5: Entre 51% y 75% | N5: Entre 76% y 99% | O5: CAIPI operando | P5: CAFI operando | Q5: ="<>"&#REF! -> #REF! | R5: <=25% | S5: <=50% | T5: <=75% | U5: <100% | V5: 1er Sorteo | W5: 4to Sorteo | Z5: Detenido pago terreno | AA5: Detenido por planos | AB5: Detenido pago cubicación | AD5: Con Propuesta de Donación | AE5: En Posesión sin Avance | AF5: En Posesión con Avance
A6: AZUA | B6: =+COUNTIF('Seguimiento Marzo 2026'!$C$12:$C$262,'estado terrenos '!A6) -> 5 | C6: =+COUNTIFS('Seguimiento Marzo 2026'!$C$12:$C$256,'estado terrenos '!A6,'Seguimiento Marzo 2026'!$H$12:$H$256,$Z$4,'Seguimiento Marzo 2026'!$Q$12:$Q$256,$AA$6) -> 3 | D6: =+COUNTIFS('Seguimiento Marzo 2026'!$C$12:$C$262,'estado terrenos '!A6,'Seguimiento Marzo 2026'!$H$12:$H$262,$Z$5)+COUNTIFS('Seguimiento Marzo 2026'!$C$12:$C$262,'estado terrenos '!A6,'Seguimiento Marzo 2026'!$H$12:$H$262,$AA$5)+COUNTIFS('Seguimiento Marzo 2026'!$C$12:$C$262,'estado terrenos '!A6,'Seguimiento Marzo 2026'!$H$12:$H$262,$AB$5)+COUNTIFS('Seguimiento Marzo 2026'!$C$12:$C$262,'estado terrenos '!A6,'Seguimiento Marzo 2026'!$H$12:$H$262,$Z$6)+COUNTIFS('Seguimiento Marzo 2026'!$C$12:$C$262,'estado terrenos '!A6,'Seguimiento Marzo 2026'!$H$12:$H$262,$AA$4)+COUNTIFS('Seguimiento Marzo 2026'!$C$12:$C$262,'estado terrenos '!A6,'Seguimiento Marzo 2026'!$H$12:$H$262,$Y$4) -> 1 | E6: =+COUNTIFS('Seguimiento Marzo 2026'!$C$12:$C$262,'estado terrenos '!A6,'Seguimiento Marzo 2026'!$H$12:$H$262,$AA$4)+COUNTIFS('Seguimiento Marzo 2026'!$C$12:$C$262,'estado terrenos '!A6,'Seguimiento Marzo 2026'!$H$12:$H$262,$Y$4) -> 1 | F6: =+COUNTIFS('Seguimiento Marzo 2026'!$C$12:$C$262,'estado terrenos '!A6,'Seguimiento Marzo 2026'!$H$12:$H$262,$Z$5)+COUNTIFS('Seguimiento Marzo 2026'!$C$12:$C$262,'estado terrenos '!A6,'Seguimiento Marzo 2026'!$H$12:$H$262,$AA$5)+COUNTIFS('Seguimiento Marzo 2026'!$C$12:$C$262,'estado terrenos '!A6,'Seguimiento Marzo 2026'!$H$12:$H$262,$AB$5)+COUNTIFS('Seguimiento Marzo 2026'!$C$12:$C$262,'estado terrenos '!A6,'Seguimiento Marzo 2026'!$H$12:$H$262,$Z$6) -> 0 | G6: =+COUNTIFS('Seguimiento Marzo 2026'!$C$12:$C$262,'estado terrenos '!A6,'Seguimiento Marzo 2026'!$H$12:$H$262,$AB$4) -> 1 | H6: =+COUNTIFS('Seguimiento Marzo 2026'!$C$12:$C$262,'estado terrenos '!A6,'Seguimiento Marzo 2026'!$H$12:$H$262,'estado terrenos '!$AB$4,'Seguimiento Marzo 2026'!$I$12:$I$262,'estado terrenos '!$AF$4) -> 0 | I6: =+COUNTIFS('Seguimiento Marzo 2026'!$C$12:$C$262,'estado terrenos '!A6,'Seguimiento Marzo 2026'!$H$12:$H$262,'estado terrenos '!$AB$4,'Seguimiento Marzo 2026'!$I$12:$I$262,$AE$4)+COUNTIFS('Seguimiento Marzo 2026'!$C$12:$C$262,'estado terrenos '!A6,'Seguimiento Marzo 2026'!$H$12:$H$262,'estado terrenos '!$AB$4,'Seguimiento Marzo 2026'!$I$12:$I$262,$AD$5) -> 0 | J6: =+COUNTIFS('Seguimiento Marzo 2026'!$C$12:$C$262,'estado terrenos '!A6,'Seguimiento Marzo 2026'!$H$12:$H$262,'estado terrenos '!$AB$4,'Seguimiento Marzo 2026'!$I$12:$I$262,$AD$4)+COUNTIFS('Seguimiento Marzo 2026'!$C$12:$C$262,'estado terrenos '!A6,'Seguimiento Marzo 2026'!$H$12:$H$262,'estado terrenos '!$AB$4,'Seguimiento Marzo 2026'!$I$12:$I$262,'estado terrenos '!$AE$5)+COUNTIFS('Seguimiento Marzo 2026'!$C$12:$C$262,'estado terrenos '!A6,'Seguimiento Marzo 2026'!$H$12:$H$262,'estado terrenos '!$AB$4,'Seguimiento Marzo 2026'!$I$12:$I$262,'estado terrenos '!$AF$5) -> 1 | K6: =R6 -> 0 | L6: =S6 -> 0 | M6: =T6 -> 0 | N6: =U6 -> 0 | O6: ='Resumen Servicio operando PI'!B5 -> #REF! | P6: ='Resumen Servicio operando PI'!C5 -> #REF! | R6: =+COUNTIFS('Seguimiento Marzo 2026'!$C$12:$C$256,'estado terrenos '!$A6,'Seguimiento Marzo 2026'!$Q$12:$Q$256,'estado terrenos '!$R$5,'Seguimiento Marzo 2026'!$Q$12:$Q$256,$R$4,'Seguimiento Marzo 2026'!$H$12:$H$256,'estado terrenos '!$Q$5) -> 0 | S6: =+COUNTIFS('Seguimiento Marzo 2026'!$C$12:$C$262,'estado terrenos '!$A6,'Seguimiento Marzo 2026'!$Q$12:$Q$262,'estado terrenos '!S$5,'Seguimiento Marzo 2026'!$Q$12:$Q$262,S$4,'Seguimiento Marzo 2026'!$H$12:$H$262,'estado terrenos '!$Q$5) -> 0 | T6: =+COUNTIFS('Seguimiento Marzo 2026'!$C$12:$C$262,'estado terrenos '!$A6,'Seguimiento Marzo 2026'!$Q$12:$Q$262,'estado terrenos '!T$5,'Seguimiento Marzo 2026'!$Q$12:$Q$262,T$4,'Seguimiento Marzo 2026'!$H$12:$H$262,'estado terrenos '!$Q$5) -> 0 | U6: =+COUNTIFS('Seguimiento Marzo 2026'!$C$12:$C$262,'estado terrenos '!$A6,'Seguimiento Marzo 2026'!$Q$12:$Q$262,'estado terrenos '!U$5,'Seguimiento Marzo 2026'!$Q$12:$Q$262,U$4,'Seguimiento Marzo 2026'!$H$12:$H$262,'estado terrenos '!$Q$5) -> 0 | Z6: Detenido | AA6: >99% | AB6: =0% -> 0
A7: BAHORUCO | B7: =+COUNTIF('Seguimiento Marzo 2026'!$C$12:$C$262,'estado terrenos '!A7) -> 5 | C7: =+COUNTIFS('Seguimiento Marzo 2026'!$C$12:$C$256,'estado terrenos '!A7,'Seguimiento Marzo 2026'!$H$12:$H$256,$Z$4,'Seguimiento Marzo 2026'!$Q$12:$Q$256,$AA$6) -> 1 | D7: =+COUNTIFS('Seguimiento Marzo 2026'!$C$12:$C$262,'estado terrenos '!A7,'Seguimiento Marzo 2026'!$H$12:$H$262,$Z$5)+COUNTIFS('Seguimiento Marzo 2026'!$C$12:$C$262,'estado terrenos '!A7,'Seguimiento Marzo 2026'!$H$12:$H$262,$AA$5)+COUNTIFS('Seguimiento Marzo 2026'!$C$12:$C$262,'estado terrenos '!A7,'Seguimiento Marzo 2026'!$H$12:$H$262,$AB$5)+COUNTIFS('Seguimiento Marzo 2026'!$C$12:$C$262,'estado terrenos '!A7,'Seguimiento Marzo 2026'!$H$12:$H$262,$Z$6)+COUNTIFS('Seguimiento Marzo 2026'!$C$12:$C$262,'estado terrenos '!A7,'Seguimiento Marzo 2026'!$H$12:$H$262,$AA$4)+COUNTIFS('Seguimiento Marzo 2026'!$C$12:$C$262,'estado terrenos '!A7,'Seguimiento Marzo 2026'!$H$12:$H$262,$Y$4) -> 3 | E7: =+COUNTIFS('Seguimiento Marzo 2026'!$C$12:$C$262,'estado terrenos '!A7,'Seguimiento Marzo 2026'!$H$12:$H$262,$AA$4)+COUNTIFS('Seguimiento Marzo 2026'!$C$12:$C$262,'estado terrenos '!A7,'Seguimiento Marzo 2026'!$H$12:$H$262,$Y$4) -> 0 | F7: =+COUNTIFS('Seguimiento Marzo 2026'!$C$12:$C$262,'estado terrenos '!A7,'Seguimiento Marzo 2026'!$H$12:$H$262,$Z$5)+COUNTIFS('Seguimiento Marzo 2026'!$C$12:$C$262,'estado terrenos '!A7,'Seguimiento Marzo 2026'!$H$12:$H$262,$AA$5)+COUNTIFS('Seguimiento Marzo 2026'!$C$12:$C$262,'estado terrenos '!A7,'Seguimiento Marzo 2026'!$H$12:$H$262,$AB$5)+COUNTIFS('Seguimiento Marzo 2026'!$C$12:$C$262,'estado terrenos '!A7,'Seguimiento Marzo 2026'!$H$12:$H$262,$Z$6) -> 3 | G7: =+COUNTIFS('Seguimiento Marzo 2026'!$C$12:$C$262,'estado terrenos '!A7,'Seguimiento Marzo 2026'!$H$12:$H$262,$AB$4) -> 1 | H7: =+COUNTIFS('Seguimiento Marzo 2026'!$C$12:$C$262,'estado terrenos '!A7,'Seguimiento Marzo 2026'!$H$12:$H$262,'estado terrenos '!$AB$4,'Seguimiento Marzo 2026'!$I$12:$I$262,$AF$4) -> 0 | I7: =+COUNTIFS('Seguimiento Marzo 2026'!$C$12:$C$262,'estado terrenos '!A7,'Seguimiento Marzo 2026'!$H$12:$H$262,'estado terrenos '!$AB$4,'Seguimiento Marzo 2026'!$I$12:$I$262,$AE$4)+COUNTIFS('Seguimiento Marzo 2026'!$C$12:$C$262,'estado terrenos '!A7,'Seguimiento Marzo 2026'!$H$12:$H$262,'estado terrenos '!$AB$4,'Seguimiento Marzo 2026'!$I$12:$I$262,$AD$5) -> 1 | J7: =+COUNTIFS('Seguimiento Marzo 2026'!$C$12:$C$262,'estado terrenos '!A7,'Seguimiento Marzo 2026'!$H$12:$H$262,'estado terrenos '!$AB$4,'Seguimiento Marzo 2026'!$I$12:$I$262,$AD$4)+COUNTIFS('Seguimiento Marzo 2026'!$C$12:$C$262,'estado terrenos '!A7,'Seguimiento Marzo 2026'!$H$12:$H$262,'estado terrenos '!$AB$4,'Seguimiento Marzo 2026'!$I$12:$I$262,'estado terrenos '!$AE$5)+COUNTIFS('Seguimiento Marzo 2026'!$C$12:$C$262,'estado terrenos '!A7,'Seguimiento Marzo 2026'!$H$12:$H$262,'estado terrenos '!$AB$4,'Seguimiento Marzo 2026'!$I$12:$I$262,'estado terrenos '!$AF$5) -> 0 | K7: =R7 -> 0 | L7: =S7 -> 0 | M7: =T7 -> 0 | N7: =U7 -> 0 | O7: ='Resumen Servicio operando PI'!B6 -> #REF! | P7: ='Resumen Servicio operando PI'!C6 -> #REF! | R7: =+COUNTIFS('Seguimiento Marzo 2026'!$C$12:$C$256,'estado terrenos '!$A7,'Seguimiento Marzo 2026'!$Q$12:$Q$256,'estado terrenos '!$R$5,'Seguimiento Marzo 2026'!$Q$12:$Q$256,$R$4,'Seguimiento Marzo 2026'!$H$12:$H$256,'estado terrenos '!$Q$5) -> 0 | S7: =+COUNTIFS('Seguimiento Marzo 2026'!$C$12:$C$262,'estado terrenos '!$A7,'Seguimiento Marzo 2026'!$Q$12:$Q$262,'estado terrenos '!S$5,'Seguimiento Marzo 2026'!$Q$12:$Q$262,S$4,'Seguimiento Marzo 2026'!$H$12:$H$262,'estado terrenos '!$Q$5) -> 0 | T7: =+COUNTIFS('Seguimiento Marzo 2026'!$C$12:$C$262,'estado terrenos '!$A7,'Seguimiento Marzo 2026'!$Q$12:$Q$262,'estado terrenos '!T$5,'Seguimiento Marzo 2026'!$Q$12:$Q$262,T$4,'Seguimiento Marzo 2026'!$H$12:$H$262,'estado terrenos '!$Q$5) -> 0 | U7: =+COUNTIFS('Seguimiento Marzo 2026'!$C$12:$C$262,'estado terrenos '!$A7,'Seguimiento Marzo 2026'!$Q$12:$Q$262,'estado terrenos '!U$5,'Seguimiento Marzo 2026'!$Q$12:$Q$262,U$4,'Seguimiento Marzo 2026'!$H$12:$H$262,'estado terrenos '!$Q$5) -> 0
A8: BARAHONA | B8: =+COUNTIF('Seguimiento Marzo 2026'!$C$12:$C$262,'estado terrenos '!A8) -> 5 | C8: =+COUNTIFS('Seguimiento Marzo 2026'!$C$12:$C$256,'estado terrenos '!A8,'Seguimiento Marzo 2026'!$H$12:$H$256,$Z$4,'Seguimiento Marzo 2026'!$Q$12:$Q$256,$AA$6) -> 2 | D8: =+COUNTIFS('Seguimiento Marzo 2026'!$C$12:$C$262,'estado terrenos '!A8,'Seguimiento Marzo 2026'!$H$12:$H$262,$Z$5)+COUNTIFS('Seguimiento Marzo 2026'!$C$12:$C$262,'estado terrenos '!A8,'Seguimiento Marzo 2026'!$H$12:$H$262,$AA$5)+COUNTIFS('Seguimiento Marzo 2026'!$C$12:$C$262,'estado terrenos '!A8,'Seguimiento Marzo 2026'!$H$12:$H$262,$AB$5)+COUNTIFS('Seguimiento Marzo 2026'!$C$12:$C$262,'estado terrenos '!A8,'Seguimiento Marzo 2026'!$H$12:$H$262,$Z$6)+COUNTIFS('Seguimiento Marzo 2026'!$C$12:$C$262,'estado terrenos '!A8,'Seguimiento Marzo 2026'!$H$12:$H$262,$AA$4)+COUNTIFS('Seguimiento Marzo 2026'!$C$12:$C$262,'estado terrenos '!A8,'Seguimiento Marzo 2026'!$H$12:$H$262,$Y$4) -> 2 | E8: =+COUNTIFS('Seguimiento Marzo 2026'!$C$12:$C$262,'estado terrenos '!A8,'Seguimiento Marzo 2026'!$H$12:$H$262,$AA$4)+COUNTIFS('Seguimiento Marzo 2026'!$C$12:$C$262,'estado terrenos '!A8,'Seguimiento Marzo 2026'!$H$12:$H$262,$Y$4) -> 1 | F8: =+COUNTIFS('Seguimiento Marzo 2026'!$C$12:$C$262,'estado terrenos '!A8,'Seguimiento Marzo 2026'!$H$12:$H$262,$Z$5)+COUNTIFS('Seguimiento Marzo 2026'!$C$12:$C$262,'estado terrenos '!A8,'Seguimiento Marzo 2026'!$H$12:$H$262,$AA$5)+COUNTIFS('Seguimiento Marzo 2026'!$C$12:$C$262,'estado terrenos '!A8,'Seguimiento Marzo 2026'!$H$12:$H$262,$AB$5)+COUNTIFS('Seguimiento Marzo 2026'!$C$12:$C$262,'estado terrenos '!A8,'Seguimiento Marzo 2026'!$H$12:$H$262,$Z$6) -> 1 | G8: =+COUNTIFS('Seguimiento Marzo 2026'!$C$12:$C$262,'estado terrenos '!A8,'Seguimiento Marzo 2026'!$H$12:$H$262,$AB$4) -> 1 | H8: =+COUNTIFS('Seguimiento Marzo 2026'!$C$12:$C$262,'estado terrenos '!A8,'Seguimiento Marzo 2026'!$H$12:$H$262,'estado terrenos '!$AB$4,'Seguimiento Marzo 2026'!$I$12:$I$262,$AF$4) -> 0 | I8: =+COUNTIFS('Seguimiento Marzo 2026'!$C$12:$C$262,'estado terrenos '!A8,'Seguimiento Marzo 2026'!$H$12:$H$262,'estado terrenos '!$AB$4,'Seguimiento Marzo 2026'!$I$12:$I$262,$AE$4)+COUNTIFS('Seguimiento Marzo 2026'!$C$12:$C$262,'estado terrenos '!A8,'Seguimiento Marzo 2026'!$H$12:$H$262,'estado terrenos '!$AB$4,'Seguimiento Marzo 2026'!$I$12:$I$262,$AD$5) -> 1 | J8: =+COUNTIFS('Seguimiento Marzo 2026'!$C$12:$C$262,'estado terrenos '!A8,'Seguimiento Marzo 2026'!$H$12:$H$262,'estado terrenos '!$AB$4,'Seguimiento Marzo 2026'!$I$12:$I$262,$AD$4)+COUNTIFS('Seguimiento Marzo 2026'!$C$12:$C$262,'estado terrenos '!A8,'Seguimiento Marzo 2026'!$H$12:$H$262,'estado terrenos '!$AB$4,'Seguimiento Marzo 2026'!$I$12:$I$262,'estado terrenos '!$AE$5)+COUNTIFS('Seguimiento Marzo 2026'!$C$12:$C$262,'estado terrenos '!A8,'Seguimiento Marzo 2026'!$H$12:$H$262,'estado terrenos '!$AB$4,'Seguimiento Marzo 2026'!$I$12:$I$262,'estado terrenos '!$AF$5) -> 0 | K8: =R8 -> 0 | L8: =S8 -> 0 | M8: =T8 -> 0 | N8: =U8 -> 0 | O8: ='Resumen Servicio operando PI'!B7 -> #REF! | P8: ='Resumen Servicio operando PI'!C7 -> #REF! | R8: =+COUNTIFS('Seguimiento Marzo 2026'!$C$12:$C$256,'estado terrenos '!$A8,'Seguimiento Marzo 2026'!$Q$12:$Q$256,'estado terrenos '!$R$5,'Seguimiento Marzo 2026'!$Q$12:$Q$256,$R$4,'Seguimiento Marzo 2026'!$H$12:$H$256,'estado terrenos '!$Q$5) -> 0 | S8: =+COUNTIFS('Seguimiento Marzo 2026'!$C$12:$C$262,'estado terrenos '!$A8,'Seguimiento Marzo 2026'!$Q$12:$Q$262,'estado terrenos '!S$5,'Seguimiento Marzo 2026'!$Q$12:$Q$262,S$4,'Seguimiento Marzo 2026'!$H$12:$H$262,'estado terrenos '!$Q$5) -> 0 | T8: =+COUNTIFS('Seguimiento Marzo 2026'!$C$12:$C$262,'estado terrenos '!$A8,'Seguimiento Marzo 2026'!$Q$12:$Q$262,'estado terrenos '!T$5,'Seguimiento Marzo 2026'!$Q$12:$Q$262,T$4,'Seguimiento Marzo 2026'!$H$12:$H$262,'estado terrenos '!$Q$5) -> 0 | U8: =+COUNTIFS('Seguimiento Marzo 2026'!$C$12:$C$262,'estado terrenos '!$A8,'Seguimiento Marzo 2026'!$Q$12:$Q$262,'estado terrenos '!U$5,'Seguimiento Marzo 2026'!$Q$12:$Q$262,U$4,'Seguimiento Marzo 2026'!$H$12:$H$262,'estado terrenos '!$Q$5) -> 0
A9: DAJABÓN | B9: =+COUNTIF('Seguimiento Marzo 2026'!$C$12:$C$262,'estado terrenos '!A9) -> 3 | C9: =+COUNTIFS('Seguimiento Marzo 2026'!$C$12:$C$256,'estado terrenos '!A9,'Seguimiento Marzo 2026'!$H$12:$H$256,$Z$4,'Seguimiento Marzo 2026'!$Q$12:$Q$256,$AA$6) -> 0 | D9: =+COUNTIFS('Seguimiento Marzo 2026'!$C$12:$C$262,'estado terrenos '!A9,'Seguimiento Marzo 2026'!$H$12:$H$262,$Z$5)+COUNTIFS('Seguimiento Marzo 2026'!$C$12:$C$262,'estado terrenos '!A9,'Seguimiento Marzo 2026'!$H$12:$H$262,$AA$5)+COUNTIFS('Seguimiento Marzo 2026'!$C$12:$C$262,'estado terrenos '!A9,'Seguimiento Marzo 2026'!$H$12:$H$262,$AB$5)+COUNTIFS('Seguimiento Marzo 2026'!$C$12:$C$262,'estado terrenos '!A9,'Seguimiento Marzo 2026'!$H$12:$H$262,$Z$6)+COUNTIFS('Seguimiento Marzo 2026'!$C$12:$C$262,'estado terrenos '!A9,'Seguimiento Marzo 2026'!$H$12:$H$262,$AA$4)+COUNTIFS('Seguimiento Marzo 2026'!$C$12:$C$262,'estado terrenos '!A9,'Seguimiento Marzo 2026'!$H$12:$H$262,$Y$4) -> 2 | E9: =+COUNTIFS('Seguimiento Marzo 2026'!$C$12:$C$262,'estado terrenos '!A9,'Seguimiento Marzo 2026'!$H$12:$H$262,$AA$4)+COUNTIFS('Seguimiento Marzo 2026'!$C$12:$C$262,'estado terrenos '!A9,'Seguimiento Marzo 2026'!$H$12:$H$262,$Y$4) -> 0 | F9: =+COUNTIFS('Seguimiento Marzo 2026'!$C$12:$C$262,'estado terrenos '!A9,'Seguimiento Marzo 2026'!$H$12:$H$262,$Z$5)+COUNTIFS('Seguimiento Marzo 2026'!$C$12:$C$262,'estado terrenos '!A9,'Seguimiento Marzo 2026'!$H$12:$H$262,$AA$5)+COUNTIFS('Seguimiento Marzo 2026'!$C$12:$C$262,'estado terrenos '!A9,'Seguimiento Marzo 2026'!$H$12:$H$262,$AB$5)+COUNTIFS('Seguimiento Marzo 2026'!$C$12:$C$262,'estado terrenos '!A9,'Seguimiento Marzo 2026'!$H$12:$H$262,$Z$6) -> 2 | G9: =+COUNTIFS('Seguimiento Marzo 2026'!$C$12:$C$262,'estado terrenos '!A9,'Seguimiento Marzo 2026'!$H$12:$H$262,$AB$4) -> 1 | H9: =+COUNTIFS('Seguimiento Marzo 2026'!$C$12:$C$262,'estado terrenos '!A9,'Seguimiento Marzo 2026'!$H$12:$H$262,'estado terrenos '!$AB$4,'Seguimiento Marzo 2026'!$I$12:$I$262,$AF$4) -> 1 | I9: =+COUNTIFS('Seguimiento Marzo 2026'!$C$12:$C$262,'estado terrenos '!A9,'Seguimiento Marzo 2026'!$H$12:$H$262,'estado terrenos '!$AB$4,'Seguimiento Marzo 2026'!$I$12:$I$262,$AE$4)+COUNTIFS('Seguimiento Marzo 2026'!$C$12:$C$262,'estado terrenos '!A9,'Seguimiento Marzo 2026'!$H$12:$H$262,'estado terrenos '!$AB$4,'Seguimiento Marzo 2026'!$I$12:$I$262,$AD$5) -> 0 | J9: =+COUNTIFS('Seguimiento Marzo 2026'!$C$12:$C$262,'estado terrenos '!A9,'Seguimiento Marzo 2026'!$H$12:$H$262,'estado terrenos '!$AB$4,'Seguimiento Marzo 2026'!$I$12:$I$262,$AD$4)+COUNTIFS('Seguimiento Marzo 2026'!$C$12:$C$262,'estado terrenos '!A9,'Seguimiento Marzo 2026'!$H$12:$H$262,'estado terrenos '!$AB$4,'Seguimiento Marzo 2026'!$I$12:$I$262,'estado terrenos '!$AE$5)+COUNTIFS('Seguimiento Marzo 2026'!$C$12:$C$262,'estado terrenos '!A9,'Seguimiento Marzo 2026'!$H$12:$H$262,'estado terrenos '!$AB$4,'Seguimiento Marzo 2026'!$I$12:$I$262,'estado terrenos '!$AF$5) -> 0 | K9: =R9 -> 0 | L9: =S9 -> 0 | M9: =T9 -> 0 | N9: =U9 -> 0 | O9: ='Resumen Servicio operando PI'!B8 -> #REF! | P9: ='Resumen Servicio operando PI'!C8 -> #REF! | R9: =+COUNTIFS('Seguimiento Marzo 2026'!$C$12:$C$256,'estado terrenos '!$A9,'Seguimiento Marzo 2026'!$Q$12:$Q$256,'estado terrenos '!$R$5,'Seguimiento Marzo 2026'!$Q$12:$Q$256,$R$4,'Seguimiento Marzo 2026'!$H$12:$H$256,'estado terrenos '!$Q$5) -> 0 | S9: =+COUNTIFS('Seguimiento Marzo 2026'!$C$12:$C$262,'estado terrenos '!$A9,'Seguimiento Marzo 2026'!$Q$12:$Q$262,'estado terrenos '!S$5,'Seguimiento Marzo 2026'!$Q$12:$Q$262,S$4,'Seguimiento Marzo 2026'!$H$12:$H$262,'estado terrenos '!$Q$5) -> 0 | T9: =+COUNTIFS('Seguimiento Marzo 2026'!$C$12:$C$262,'estado terrenos '!$A9,'Seguimiento Marzo 2026'!$Q$12:$Q$262,'estado terrenos '!T$5,'Seguimiento Marzo 2026'!$Q$12:$Q$262,T$4,'Seguimiento Marzo 2026'!$H$12:$H$262,'estado terrenos '!$Q$5) -> 0 | U9: =+COUNTIFS('Seguimiento Marzo 2026'!$C$12:$C$262,'estado terrenos '!$A9,'Seguimiento Marzo 2026'!$Q$12:$Q$262,'estado terrenos '!U$5,'Seguimiento Marzo 2026'!$Q$12:$Q$262,U$4,'Seguimiento Marzo 2026'!$H$12:$H$262,'estado terrenos '!$Q$5) -> 0
A10: DISTRITO NACIONAL | B10: =+COUNTIF('Seguimiento Marzo 2026'!$C$12:$C$262,'estado terrenos '!A10) -> 14 | C10: =+COUNTIFS('Seguimiento Marzo 2026'!$C$12:$C$256,'estado terrenos '!A10,'Seguimiento Marzo 2026'!$H$12:$H$256,$Z$4,'Seguimiento Marzo 2026'!$Q$12:$Q$256,$AA$6) -> 3 | D10: =+COUNTIFS('Seguimiento Marzo 2026'!$C$12:$C$262,'estado terrenos '!A10,'Seguimiento Marzo 2026'!$H$12:$H$262,$Z$5)+COUNTIFS('Seguimiento Marzo 2026'!$C$12:$C$262,'estado terrenos '!A10,'Seguimiento Marzo 2026'!$H$12:$H$262,$AA$5)+COUNTIFS('Seguimiento Marzo 2026'!$C$12:$C$262,'estado terrenos '!A10,'Seguimiento Marzo 2026'!$H$12:$H$262,$AB$5)+COUNTIFS('Seguimiento Marzo 2026'!$C$12:$C$262,'estado terrenos '!A10,'Seguimiento Marzo 2026'!$H$12:$H$262,$Z$6)+COUNTIFS('Seguimiento Marzo 2026'!$C$12:$C$262,'estado terrenos '!A10,'Seguimiento Marzo 2026'!$H$12:$H$262,$AA$4)+COUNTIFS('Seguimiento Marzo 2026'!$C$12:$C$262,'estado terrenos '!A10,'Seguimiento Marzo 2026'!$H$12:$H$262,$Y$4) -> 6 | E10: =+COUNTIFS('Seguimiento Marzo 2026'!$C$12:$C$262,'estado terrenos '!A10,'Seguimiento Marzo 2026'!$H$12:$H$262,$AA$4)+COUNTIFS('Seguimiento Marzo 2026'!$C$12:$C$262,'estado terrenos '!A10,'Seguimiento Marzo 2026'!$H$12:$H$262,$Y$4) -> 0 | F10: =+COUNTIFS('Seguimiento Marzo 2026'!$C$12:$C$262,'estado terrenos '!A10,'Seguimiento Marzo 2026'!$H$12:$H$262,$Z$5)+COUNTIFS('Seguimiento Marzo 2026'!$C$12:$C$262,'estado terrenos '!A10,'Seguimiento Marzo 2026'!$H$12:$H$262,$AA$5)+COUNTIFS('Seguimiento Marzo 2026'!$C$12:$C$262,'estado terrenos '!A10,'Seguimiento Marzo 2026'!$H$12:$H$262,$AB$5)+COUNTIFS('Seguimiento Marzo 2026'!$C$12:$C$262,'estado terrenos '!A10,'Seguimiento Marzo 2026'!$H$12:$H$262,$Z$6) -> 6 | G10: =+COUNTIFS('Seguimiento Marzo 2026'!$C$12:$C$262,'estado terrenos '!A10,'Seguimiento Marzo 2026'!$H$12:$H$262,$AB$4) -> 5 | H10: =+COUNTIFS('Seguimiento Marzo 2026'!$C$12:$C$262,'estado terrenos '!A10,'Seguimiento Marzo 2026'!$H$12:$H$262,'estado terrenos '!$AB$4,'Seguimiento Marzo 2026'!$I$12:$I$262,$AF$4) -> 4 | I10: =+COUNTIFS('Seguimiento Marzo 2026'!$C$12:$C$262,'estado terrenos '!A10,'Seguimiento Marzo 2026'!$H$12:$H$262,'estado terrenos '!$AB$4,'Seguimiento Marzo 2026'!$I$12:$I$262,$AE$4)+COUNTIFS('Seguimiento Marzo 2026'!$C$12:$C$262,'estado terrenos '!A10,'Seguimiento Marzo 2026'!$H$12:$H$262,'estado terrenos '!$AB$4,'Seguimiento Marzo 2026'!$I$12:$I$262,$AD$5) -> 1 | J10: =+COUNTIFS('Seguimiento Marzo 2026'!$C$12:$C$262,'estado terrenos '!A10,'Seguimiento Marzo 2026'!$H$12:$H$262,'estado terrenos '!$AB$4,'Seguimiento Marzo 2026'!$I$12:$I$262,$AD$4)+COUNTIFS('Seguimiento Marzo 2026'!$C$12:$C$262,'estado terrenos '!A10,'Seguimiento Marzo 2026'!$H$12:$H$262,'estado terrenos '!$AB$4,'Seguimiento Marzo 2026'!$I$12:$I$262,'estado terrenos '!$AE$5)+COUNTIFS('Seguimiento Marzo 2026'!$C$12:$C$262,'estado terrenos '!A10,'Seguimiento Marzo 2026'!$H$12:$H$262,'estado terrenos '!$AB$4,'Seguimiento Marzo 2026'!$I$12:$I$262,'estado terrenos '!$AF$5) -> 0 | K10: =R10 -> 0 | L10: =S10 -> 0 | M10: =T10 -> 0 | N10: =U10 -> 0 | O10: ='Resumen Servicio operando PI'!B9 -> #REF! | P10: ='Resumen Servicio operando PI'!C9 -> #REF! | R10: =+COUNTIFS('Seguimiento Marzo 2026'!$C$12:$C$256,'estado terrenos '!$A10,'Seguimiento Marzo 2026'!$Q$12:$Q$256,'estado terrenos '!$R$5,'Seguimiento Marzo 2026'!$Q$12:$Q$256,$R$4,'Seguimiento Marzo 2026'!$H$12:$H$256,'estado terrenos '!$Q$5) -> 0 | S10: =+COUNTIFS('Seguimiento Marzo 2026'!$C$12:$C$262,'estado terrenos '!$A10,'Seguimiento Marzo 2026'!$Q$12:$Q$262,'estado terrenos '!S$5,'Seguimiento Marzo 2026'!$Q$12:$Q$262,S$4,'Seguimiento Marzo 2026'!$H$12:$H$262,'estado terrenos '!$Q$5) -> 0 | T10: =+COUNTIFS('Seguimiento Marzo 2026'!$C$12:$C$262,'estado terrenos '!$A10,'Seguimiento Marzo 2026'!$Q$12:$Q$262,'estado terrenos '!T$5,'Seguimiento Marzo 2026'!$Q$12:$Q$262,T$4,'Seguimiento Marzo 2026'!$H$12:$H$262,'estado terrenos '!$Q$5) -> 0 | U10: =+COUNTIFS('Seguimiento Marzo 2026'!$C$12:$C$262,'estado terrenos '!$A10,'Seguimiento Marzo 2026'!$Q$12:$Q$262,'estado terrenos '!U$5,'Seguimiento Marzo 2026'!$Q$12:$Q$262,U$4,'Seguimiento Marzo 2026'!$H$12:$H$262,'estado terrenos '!$Q$5) -> 0
A11: DUARTE | B11: =+COUNTIF('Seguimiento Marzo 2026'!$C$12:$C$262,'estado terrenos '!A11) -> 6 | C11: =+COUNTIFS('Seguimiento Marzo 2026'!$C$12:$C$262,'estado terrenos '!A11,'Seguimiento Marzo 2026'!$H$12:$H$262,$Z$4,'Seguimiento Marzo 2026'!$Q$12:$Q$262,$AA$6) -> 4 | D11: =+COUNTIFS('Seguimiento Marzo 2026'!$C$12:$C$262,'estado terrenos '!A11,'Seguimiento Marzo 2026'!$H$12:$H$262,$Z$5)+COUNTIFS('Seguimiento Marzo 2026'!$C$12:$C$262,'estado terrenos '!A11,'Seguimiento Marzo 2026'!$H$12:$H$262,$AA$5)+COUNTIFS('Seguimiento Marzo 2026'!$C$12:$C$262,'estado terrenos '!A11,'Seguimiento Marzo 2026'!$H$12:$H$262,$AB$5)+COUNTIFS('Seguimiento Marzo 2026'!$C$12:$C$262,'estado terrenos '!A11,'Seguimiento Marzo 2026'!$H$12:$H$262,$Z$6)+COUNTIFS('Seguimiento Marzo 2026'!$C$12:$C$262,'estado terrenos '!A11,'Seguimiento Marzo 2026'!$H$12:$H$262,$AA$4)+COUNTIFS('Seguimiento Marzo 2026'!$C$12:$C$262,'estado terrenos '!A11,'Seguimiento Marzo 2026'!$H$12:$H$262,$Y$4) -> 2 | E11: =+COUNTIFS('Seguimiento Marzo 2026'!$C$12:$C$262,'estado terrenos '!A11,'Seguimiento Marzo 2026'!$H$12:$H$262,$AA$4)+COUNTIFS('Seguimiento Marzo 2026'!$C$12:$C$262,'estado terrenos '!A11,'Seguimiento Marzo 2026'!$H$12:$H$262,$Y$4) -> 0 | F11: =+COUNTIFS('Seguimiento Marzo 2026'!$C$12:$C$262,'estado terrenos '!A11,'Seguimiento Marzo 2026'!$H$12:$H$262,$Z$5)+COUNTIFS('Seguimiento Marzo 2026'!$C$12:$C$262,'estado terrenos '!A11,'Seguimiento Marzo 2026'!$H$12:$H$262,$AA$5)+COUNTIFS('Seguimiento Marzo 2026'!$C$12:$C$262,'estado terrenos '!A11,'Seguimiento Marzo 2026'!$H$12:$H$262,$AB$5)+COUNTIFS('Seguimiento Marzo 2026'!$C$12:$C$262,'estado terrenos '!A11,'Seguimiento Marzo 2026'!$H$12:$H$262,$Z$6) -> 2 | G11: =+COUNTIFS('Seguimiento Marzo 2026'!$C$12:$C$262,'estado terrenos '!A11,'Seguimiento Marzo 2026'!$H$12:$H$262,$AB$4) -> 0 | H11: =+COUNTIFS('Seguimiento Marzo 2026'!$C$12:$C$262,'estado terrenos '!A11,'Seguimiento Marzo 2026'!$H$12:$H$262,'estado terrenos '!$AB$4,'Seguimiento Marzo 2026'!$I$12:$I$262,$AF$4) -> 0 | I11: =+COUNTIFS('Seguimiento Marzo 2026'!$C$12:$C$262,'estado terrenos '!A11,'Seguimiento Marzo 2026'!$H$12:$H$262,'estado terrenos '!$AB$4,'Seguimiento Marzo 2026'!$I$12:$I$262,$AE$4)+COUNTIFS('Seguimiento Marzo 2026'!$C$12:$C$262,'estado terrenos '!A11,'Seguimiento Marzo 2026'!$H$12:$H$262,'estado terrenos '!$AB$4,'Seguimiento Marzo 2026'!$I$12:$I$262,$AD$5) -> 0 | J11: =+COUNTIFS('Seguimiento Marzo 2026'!$C$12:$C$262,'estado terrenos '!A11,'Seguimiento Marzo 2026'!$H$12:$H$262,'estado terrenos '!$AB$4,'Seguimiento Marzo 2026'!$I$12:$I$262,$AD$4)+COUNTIFS('Seguimiento Marzo 2026'!$C$12:$C$262,'estado terrenos '!A11,'Seguimiento Marzo 2026'!$H$12:$H$262,'estado terrenos '!$AB$4,'Seguimiento Marzo 2026'!$I$12:$I$262,'estado terrenos '!$AE$5)+COUNTIFS('Seguimiento Marzo 2026'!$C$12:$C$262,'estado terrenos '!A11,'Seguimiento Marzo 2026'!$H$12:$H$262,'estado terrenos '!$AB$4,'Seguimiento Marzo 2026'!$I$12:$I$262,'estado terrenos '!$AF$5) -> 0 | K11: =R11 -> 0 | L11: =S11 -> 0 | M11: =T11 -> 0 | N11: =U11 -> 0 | O11: ='Resumen Servicio operando PI'!B10 -> #REF! | P11: ='Resumen Servicio operando PI'!C10 -> #REF! | R11: =+COUNTIFS('Seguimiento Marzo 2026'!$C$12:$C$256,'estado terrenos '!$A11,'Seguimiento Marzo 2026'!$Q$12:$Q$256,'estado terrenos '!$R$5,'Seguimiento Marzo 2026'!$Q$12:$Q$256,$R$4,'Seguimiento Marzo 2026'!$H$12:$H$256,'estado terrenos '!$Q$5) -> 0 | S11: =+COUNTIFS('Seguimiento Marzo 2026'!$C$12:$C$262,'estado terrenos '!$A11,'Seguimiento Marzo 2026'!$Q$12:$Q$262,'estado terrenos '!S$5,'Seguimiento Marzo 2026'!$Q$12:$Q$262,S$4,'Seguimiento Marzo 2026'!$H$12:$H$262,'estado terrenos '!$Q$5) -> 0 | T11: =+COUNTIFS('Seguimiento Marzo 2026'!$C$12:$C$262,'estado terrenos '!$A11,'Seguimiento Marzo 2026'!$Q$12:$Q$262,'estado terrenos '!T$5,'Seguimiento Marzo 2026'!$Q$12:$Q$262,T$4,'Seguimiento Marzo 2026'!$H$12:$H$262,'estado terrenos '!$Q$5) -> 0 | U11: =+COUNTIFS('Seguimiento Marzo 2026'!$C$12:$C$262,'estado terrenos '!$A11,'Seguimiento Marzo 2026'!$Q$12:$Q$262,'estado terrenos '!U$5,'Seguimiento Marzo 2026'!$Q$12:$Q$262,U$4,'Seguimiento Marzo 2026'!$H$12:$H$262,'estado terrenos '!$Q$5) -> 0
A12: EL SEIBO | B12: =+COUNTIF('Seguimiento Marzo 2026'!$C$12:$C$262,'estado terrenos '!A12) -> 2 | C12: =+COUNTIFS('Seguimiento Marzo 2026'!$C$12:$C$262,'estado terrenos '!A12,'Seguimiento Marzo 2026'!$H$12:$H$262,$Z$4,'Seguimiento Marzo 2026'!$Q$12:$Q$262,$AA$6) -> 1 | D12: =+COUNTIFS('Seguimiento Marzo 2026'!$C$12:$C$262,'estado terrenos '!A12,'Seguimiento Marzo 2026'!$H$12:$H$262,$Z$5)+COUNTIFS('Seguimiento Marzo 2026'!$C$12:$C$262,'estado terrenos '!A12,'Seguimiento Marzo 2026'!$H$12:$H$262,$AA$5)+COUNTIFS('Seguimiento Marzo 2026'!$C$12:$C$262,'estado terrenos '!A12,'Seguimiento Marzo 2026'!$H$12:$H$262,$AB$5)+COUNTIFS('Seguimiento Marzo 2026'!$C$12:$C$262,'estado terrenos '!A12,'Seguimiento Marzo 2026'!$H$12:$H$262,$Z$6)+COUNTIFS('Seguimiento Marzo 2026'!$C$12:$C$262,'estado terrenos '!A12,'Seguimiento Marzo 2026'!$H$12:$H$262,$AA$4)+COUNTIFS('Seguimiento Marzo 2026'!$C$12:$C$262,'estado terrenos '!A12,'Seguimiento Marzo 2026'!$H$12:$H$262,$Y$4) -> 0 | E12: =+COUNTIFS('Seguimiento Marzo 2026'!$C$12:$C$262,'estado terrenos '!A12,'Seguimiento Marzo 2026'!$H$12:$H$262,$AA$4)+COUNTIFS('Seguimiento Marzo 2026'!$C$12:$C$262,'estado terrenos '!A12,'Seguimiento Marzo 2026'!$H$12:$H$262,$Y$4) -> 0 | F12: =+COUNTIFS('Seguimiento Marzo 2026'!$C$12:$C$262,'estado terrenos '!A12,'Seguimiento Marzo 2026'!$H$12:$H$262,$Z$5)+COUNTIFS('Seguimiento Marzo 2026'!$C$12:$C$262,'estado terrenos '!A12,'Seguimiento Marzo 2026'!$H$12:$H$262,$AA$5)+COUNTIFS('Seguimiento Marzo 2026'!$C$12:$C$262,'estado terrenos '!A12,'Seguimiento Marzo 2026'!$H$12:$H$262,$AB$5)+COUNTIFS('Seguimiento Marzo 2026'!$C$12:$C$262,'estado terrenos '!A12,'Seguimiento Marzo 2026'!$H$12:$H$262,$Z$6) -> 0 | G12: =+COUNTIFS('Seguimiento Marzo 2026'!$C$12:$C$262,'estado terrenos '!A12,'Seguimiento Marzo 2026'!$H$12:$H$262,$AB$4) -> 1 | H12: =+COUNTIFS('Seguimiento Marzo 2026'!$C$12:$C$262,'estado terrenos '!A12,'Seguimiento Marzo 2026'!$H$12:$H$262,'estado terrenos '!$AB$4,'Seguimiento Marzo 2026'!$I$12:$I$262,$AF$4) -> 0 | I12: =+COUNTIFS('Seguimiento Marzo 2026'!$C$12:$C$262,'estado terrenos '!A12,'Seguimiento Marzo 2026'!$H$12:$H$262,'estado terrenos '!$AB$4,'Seguimiento Marzo 2026'!$I$12:$I$262,$AE$4)+COUNTIFS('Seguimiento Marzo 2026'!$C$12:$C$262,'estado terrenos '!A12,'Seguimiento Marzo 2026'!$H$12:$H$262,'estado terrenos '!$AB$4,'Seguimiento Marzo 2026'!$I$12:$I$262,$AD$5) -> 1 | J12: =+COUNTIFS('Seguimiento Marzo 2026'!$C$12:$C$262,'estado terrenos '!A12,'Seguimiento Marzo 2026'!$H$12:$H$262,'estado terrenos '!$AB$4,'Seguimiento Marzo 2026'!$I$12:$I$262,$AD$4)+COUNTIFS('Seguimiento Marzo 2026'!$C$12:$C$262,'estado terrenos '!A12,'Seguimiento Marzo 2026'!$H$12:$H$262,'estado terrenos '!$AB$4,'Seguimiento Marzo 2026'!$I$12:$I$262,'estado terrenos '!$AE$5)+COUNTIFS('Seguimiento Marzo 2026'!$C$12:$C$262,'estado terrenos '!A12,'Seguimiento Marzo 2026'!$H$12:$H$262,'estado terrenos '!$AB$4,'Seguimiento Marzo 2026'!$I$12:$I$262,'estado terrenos '!$AF$5) -> 0 | K12: =R12 -> 0 | L12: =S12 -> 0 | M12: =T12 -> 0 | N12: =U12 -> 0 | O12: ='Resumen Servicio operando PI'!B11 -> #REF! | P12: ='Resumen Servicio operando PI'!C11 -> #REF! | R12: =+COUNTIFS('Seguimiento Marzo 2026'!$C$12:$C$256,'estado terrenos '!$A12,'Seguimiento Marzo 2026'!$Q$12:$Q$256,'estado terrenos '!$R$5,'Seguimiento Marzo 2026'!$Q$12:$Q$256,$R$4,'Seguimiento Marzo 2026'!$H$12:$H$256,'estado terrenos '!$Q$5) -> 0 | S12: =+COUNTIFS('Seguimiento Marzo 2026'!$C$12:$C$262,'estado terrenos '!$A12,'Seguimiento Marzo 2026'!$Q$12:$Q$262,'estado terrenos '!S$5,'Seguimiento Marzo 2026'!$Q$12:$Q$262,S$4,'Seguimiento Marzo 2026'!$H$12:$H$262,'estado terrenos '!$Q$5) -> 0 | T12: =+COUNTIFS('Seguimiento Marzo 2026'!$C$12:$C$262,'estado terrenos '!$A12,'Seguimiento Marzo 2026'!$Q$12:$Q$262,'estado terrenos '!T$5,'Seguimiento Marzo 2026'!$Q$12:$Q$262,T$4,'Seguimiento Marzo 2026'!$H$12:$H$262,'estado terrenos '!$Q$5) -> 0 | U12: =+COUNTIFS('Seguimiento Marzo 2026'!$C$12:$C$262,'estado terrenos '!$A12,'Seguimiento Marzo 2026'!$Q$12:$Q$262,'estado terrenos '!U$5,'Seguimiento Marzo 2026'!$Q$12:$Q$262,U$4,'Seguimiento Marzo 2026'!$H$12:$H$262,'estado terrenos '!$Q$5) -> 0
A13: ELÍAS PIÑA | B13: =+COUNTIF('Seguimiento Marzo 2026'!$C$12:$C$262,'estado terrenos '!A13) -> 2 | C13: =+COUNTIFS('Seguimiento Marzo 2026'!$C$12:$C$262,'estado terrenos '!A13,'Seguimiento Marzo 2026'!$H$12:$H$262,$Z$4,'Seguimiento Marzo 2026'!$Q$12:$Q$262,$AA$6) -> 1 | D13: =+COUNTIFS('Seguimiento Marzo 2026'!$C$12:$C$262,'estado terrenos '!A13,'Seguimiento Marzo 2026'!$H$12:$H$262,$Z$5)+COUNTIFS('Seguimiento Marzo 2026'!$C$12:$C$262,'estado terrenos '!A13,'Seguimiento Marzo 2026'!$H$12:$H$262,$AA$5)+COUNTIFS('Seguimiento Marzo 2026'!$C$12:$C$262,'estado terrenos '!A13,'Seguimiento Marzo 2026'!$H$12:$H$262,$AB$5)+COUNTIFS('Seguimiento Marzo 2026'!$C$12:$C$262,'estado terrenos '!A13,'Seguimiento Marzo 2026'!$H$12:$H$262,$Z$6)+COUNTIFS('Seguimiento Marzo 2026'!$C$12:$C$262,'estado terrenos '!A13,'Seguimiento Marzo 2026'!$H$12:$H$262,$AA$4)+COUNTIFS('Seguimiento Marzo 2026'!$C$12:$C$262,'estado terrenos '!A13,'Seguimiento Marzo 2026'!$H$12:$H$262,$Y$4) -> 1 | E13: =+COUNTIFS('Seguimiento Marzo 2026'!$C$12:$C$262,'estado terrenos '!A13,'Seguimiento Marzo 2026'!$H$12:$H$262,$AA$4)+COUNTIFS('Seguimiento Marzo 2026'!$C$12:$C$262,'estado terrenos '!A13,'Seguimiento Marzo 2026'!$H$12:$H$262,$Y$4) -> 0 | F13: =+COUNTIFS('Seguimiento Marzo 2026'!$C$12:$C$262,'estado terrenos '!A13,'Seguimiento Marzo 2026'!$H$12:$H$262,$Z$5)+COUNTIFS('Seguimiento Marzo 2026'!$C$12:$C$262,'estado terrenos '!A13,'Seguimiento Marzo 2026'!$H$12:$H$262,$AA$5)+COUNTIFS('Seguimiento Marzo 2026'!$C$12:$C$262,'estado terrenos '!A13,'Seguimiento Marzo 2026'!$H$12:$H$262,$AB$5)+COUNTIFS('Seguimiento Marzo 2026'!$C$12:$C$262,'estado terrenos '!A13,'Seguimiento Marzo 2026'!$H$12:$H$262,$Z$6) -> 1 | G13: =+COUNTIFS('Seguimiento Marzo 2026'!$C$12:$C$262,'estado terrenos '!A13,'Seguimiento Marzo 2026'!$H$12:$H$262,$AB$4) -> 0 | H13: =+COUNTIFS('Seguimiento Marzo 2026'!$C$12:$C$262,'estado terrenos '!A13,'Seguimiento Marzo 2026'!$H$12:$H$262,'estado terrenos '!$AB$4,'Seguimiento Marzo 2026'!$I$12:$I$262,$AF$4) -> 0 | I13: =+COUNTIFS('Seguimiento Marzo 2026'!$C$12:$C$262,'estado terrenos '!A13,'Seguimiento Marzo 2026'!$H$12:$H$262,'estado terrenos '!$AB$4,'Seguimiento Marzo 2026'!$I$12:$I$262,$AE$4)+COUNTIFS('Seguimiento Marzo 2026'!$C$12:$C$262,'estado terrenos '!A13,'Seguimiento Marzo 2026'!$H$12:$H$262,'estado terrenos '!$AB$4,'Seguimiento Marzo 2026'!$I$12:$I$262,$AD$5) -> 0 | J13: =+COUNTIFS('Seguimiento Marzo 2026'!$C$12:$C$262,'estado terrenos '!A13,'Seguimiento Marzo 2026'!$H$12:$H$262,'estado terrenos '!$AB$4,'Seguimiento Marzo 2026'!$I$12:$I$262,$AD$4)+COUNTIFS('Seguimiento Marzo 2026'!$C$12:$C$262,'estado terrenos '!A13,'Seguimiento Marzo 2026'!$H$12:$H$262,'estado terrenos '!$AB$4,'Seguimiento Marzo 2026'!$I$12:$I$262,'estado terrenos '!$AE$5)+COUNTIFS('Seguimiento Marzo 2026'!$C$12:$C$262,'estado terrenos '!A13,'Seguimiento Marzo 2026'!$H$12:$H$262,'estado terrenos '!$AB$4,'Seguimiento Marzo 2026'!$I$12:$I$262,'estado terrenos '!$AF$5) -> 0 | K13: =R13 -> 0 | L13: =S13 -> 0 | M13: =T13 -> 0 | N13: =U13 -> 0 | O13: ='Resumen Servicio operando PI'!B12 -> #REF! | P13: ='Resumen Servicio operando PI'!C12 -> #REF! | R13: =+COUNTIFS('Seguimiento Marzo 2026'!$C$12:$C$256,'estado terrenos '!$A13,'Seguimiento Marzo 2026'!$Q$12:$Q$256,'estado terrenos '!$R$5,'Seguimiento Marzo 2026'!$Q$12:$Q$256,$R$4,'Seguimiento Marzo 2026'!$H$12:$H$256,'estado terrenos '!$Q$5) -> 0 | S13: =+COUNTIFS('Seguimiento Marzo 2026'!$C$12:$C$262,'estado terrenos '!$A13,'Seguimiento Marzo 2026'!$Q$12:$Q$262,'estado terrenos '!S$5,'Seguimiento Marzo 2026'!$Q$12:$Q$262,S$4,'Seguimiento Marzo 2026'!$H$12:$H$262,'estado terrenos '!$Q$5) -> 0 | T13: =+COUNTIFS('Seguimiento Marzo 2026'!$C$12:$C$262,'estado terrenos '!$A13,'Seguimiento Marzo 2026'!$Q$12:$Q$262,'estado terrenos '!T$5,'Seguimiento Marzo 2026'!$Q$12:$Q$262,T$4,'Seguimiento Marzo 2026'!$H$12:$H$262,'estado terrenos '!$Q$5) -> 0 | U13: =+COUNTIFS('Seguimiento Marzo 2026'!$C$12:$C$262,'estado terrenos '!$A13,'Seguimiento Marzo 2026'!$Q$12:$Q$262,'estado terrenos '!U$5,'Seguimiento Marzo 2026'!$Q$12:$Q$262,U$4,'Seguimiento Marzo 2026'!$H$12:$H$262,'estado terrenos '!$Q$5) -> 0
